Workbook

Sheet TT lop học-diem danh
A1: THÔNG TIN VỀ LỚP HỌC/ MÔN HỌC | N1: TỔNG HỢP SỐ GIỜ NGHỈ CHO MÔN HỌC……………………..……………...……….. LỚP…………………NGÀNH:…………………. | AN1: QUẢN LÝ HỌC SINH CÁ BIỆT (Tên học sinh, đặc điểm, hình thức quản lý giáo dục, đánh giá phát triển) | BB1: ĐÁNH GIÁ QUÁ TRÌNH GIẢNG DẠY MÔN HỌC (đánh giá chung quá trình tổ chức đào tạo, quản lý lớp học và kết quả học tập của lớp học, kinh nghiệm giảng dạy môn học)
B2: 1. Lớp: KT06B1N1…………………… Môn học: TIN HỌC…………………………………………………………………..
B3: 2. Nghề đào tạo: KẾ TOÁN DOANH NGHIỆP
B4: 3. Trình độ đào tạo nghề: TRUNG CẤP……………………………………………………………………………… | N4: TT | O4: Tên học sinh | P4: Ngày/Tháng | AL4: Tổng số | AM4: Ghi chú
B5: 4. Trình độ đầu vào và hình thức đánh giá đầu vào: XÉT TUYỂN..................................................................................
N6: 1 | O6: Trần Ngọc Bảo
B7: 5. Quyết định thành lập lớp học: Số 04/QĐ-TCKTKTTQ.12................................................................................... | N7: 2 | O7: Nguyễn Bảo Duy
N8: 3 | O8: Võ Nguyễn Ngọc Duyên
B9: 6. Tổ chức lớp học | N9: 4 | O9: Nguyễn Huy Hoàng
B10: a) Sĩ số lớp học: 21.............................................................................................................................. | N10: 5 | O10: Võ Hồng Hương
B11: b) Bộ máy quản lý lớp: | N11: 6 | O11: Nguyễn Đức Huy
C12: Giáo viên chủ nhiệm: Nguyễn Thị Tố Quyên | N12: 7 | O12: Lê Ngọc Kiên
C13: Lớp trưởng: Đinh Hoàng Yến Nhi | N13: 8 | O13: Ngô Dương Đình Luật
C14: Lớp phó và các tổ : Trần Ngọc Đức Phát | N14: 9 | O14: Bùi Nguyễn Duy Minh
B15: c) Phương thức tổ chức đào tạo: | N15: 10 | O15: Huỳnh Lý Hoài Nam
N16: 11 | O16: Đào Thị Bảo Ngọc
N17: 12 | O17: Nguyễn Hoàng Ý Nhi
N18: 13 | O18: Huỳnh Văn Phát
N19: 14 | O19: Dương Hoàng Phúc
N20: 15 | O20: Đặng Hoàng Phúc
N21: 16 | O21: Võ Vĩnh Phúc
N22: 17 | O22: Văn Phú Tấn Phụng
N23: 18 | O23: Vũ Thọ Phương
N24: 19 | O24: Trần Anh Quân
N25: 20 | O25: Triệu Thanh Sang
N26: 21 | O26: Phan Đăng Tấn
N27: 22 | O27: Nguyễn Đỗ Anh Thi
... N34: 29 | O34: Nguyễn Vân Trang
N35: 30
N36: 31
N37: 32
N38: 33
N39: 34
N40: 35
N41: 36
N42: 37
N43: 38
N44: 39
N45: 40
N46: 41
... N60: 55

Sheet ThongTin
A1: THÔNG TIN VỀ LỚP HỌC/ MÔN HỌC
B2: 1. Lớp: WEB05B3-N3 Môn học: QUẢN TRỊ WEB MAIL SERVER
B3: 2. Nghề đào tạo:
B4: 3. Trình độ đào tạo nghề: TRUNG CẤP
B5: 4. Trình độ đầu vào và hình thức đánh giá đầu vào: XÉT TUYỂN.
B7: 5. Quyết định thành lập lớp học: Số 04/QĐ-TCKTKTTQ.12
B9: 6. Tổ chức lớp học
B10: a) Sĩ số lớp học: 24
B11: b) Bộ máy quản lý lớp:
C12: Giáo viên chủ nhiệm:
C13: Lớp trưởng:
C14: Lớp phó và các tổ :
B15: c) Phương thức tổ chức đào tạo:
B18: GIÁO VIÊN : DƯƠNG NGỌC VỌNG

Sheet ket qua hoc tap
A1: KẾT QUẢ HỌC TẬP
A2: MÔN HỌC: QT WEB MAIL SERVER LỚP: WEB05B3-N3
A4: Số TT | B4: Họ và tên học sinh | C4: KTTX | F4: KTĐK | I4: Trung bình kiểm tra | J4: Lần 1 | L4: Lần 2
C5: Hệ số 1 | F5: Hệ số 2 | J5: Kiểm tra kết thúc môn học | K5: Điểm tổng kết | L5: Kiểm tra kết thúc môn học | M5: Điểm tổng kết
A7: 1 | B7: Bùi Đình Như Quỳnh | C7: 8.5 | F7: 9 | I7: =ROUND((C7+F7*2)/3,1) -> 8.8 | J7: 6 | K7: =ROUND((I7+J7)/2,1) -> 7.4
A8: 2 | B8: Võ Như Sơn | C8: 9 | F8: 5 | I8: =ROUND((C8+F8*2)/3,1) -> 6.3 | J8: 6 | K8: =ROUND((I8+J8)/2,1) -> 6.2
A9: 3 | B9: Trần Nguyễn Nhật Tân | C9: 9 | F9: 6 | I9: =ROUND((C9+F9*2)/3,1) -> 7 | J9: 8 | K9: =ROUND((I9+J9)/2,1) -> 7.5
A10: 4 | B10: Phạm Viết Thành | C10: 9.5 | F10: 10 | I10: =ROUND((C10+F10*2)/3,1) -> 9.8 | J10: 8 | K10: =ROUND((I10+J10)/2,1) -> 8.9
A11: 5 | B11: Hà Quốc Tín | C11: 6.5 | F11: 10 | I11: =ROUND((C11+F11*2)/3,1) -> 8.8 | J11: 8 | K11: =ROUND((I11+J11)/2,1) -> 8.4
A12: 6 | B12: Phan Thị Thùy Trang | C12: 9 | F12: 9.5 | I12: =ROUND((C12+F12*2)/3,1) -> 9.3 | J12: 6 | K12: =ROUND((I12+J12)/2,1) -> 7.7
A13: 7 | B13: Trần Anh Tuấn | C13: 5 | F13: 6 | I13: =ROUND((C13+F13*2)/3,1) -> 5.7 | J13: 5 | K13: =ROUND((I13+J13)/2,1) -> 5.4
A14: 8 | B14: Nguyễn Thanh Tùng | C14: 10 | F14: 10 | I14: =ROUND((C14+F14*2)/3,1) -> 10 | J14: 8.5 | K14: =ROUND((I14+J14)/2,1) -> 9.3
A15: 9 | B15: Nguyễn Thị Tường Vi | C15: 6 | F15: 5.5 | I15: =ROUND((C15+F15*2)/3,1) -> 5.7 | J15: 5.5 | K15: =ROUND((I15+J15)/2,1) -> 5.6
A16: 10 | B16: Trần Long Vũ | C16: 6.5 | F16: 9 | I16: =ROUND((C16+F16*2)/3,1) -> 8.2 | J16: 7 | K16: =ROUND((I16+J16)/2,1) -> 7.6
A17: 11 | B17: Phạm Anh Vũ | C17: 9.5 | F17: 10 | I17: =ROUND((C17+F17*2)/3,1) -> 9.8 | J17: 8 | K17: =ROUND((I17+J17)/2,1) -> 8.9
A18: 12 | B18: Nguyễn Ngọc Minh | C18: 9 | F18: 10 | I18: =ROUND((C18+F18*2)/3,1) -> 9.7 | J18: 5.5 | K18: =ROUND((I18+J18)/2,1) -> 7.6
... A30: 24 | B30: Hồ Vũ Nhân | C30: 9.5 | F30: 10 | I30: =ROUND((C30+F30*2)/3,1) -> 9.8 | J30: 8 | K30: =ROUND((I30+J30)/2,1) -> 8.9

Sheet TongHopGioNghi
A1: TỔNG HỢP SỐ GIỜ NGHỈ CHO MÔN HỌC……………………..……………...……….. LỚP…………………NGÀNH:………………….
A4: TT | B4: Tên học sinh | C4: Ngày/Tháng | P4: Tổng số | Q4: Ghi chú
C5: 43480 | D5: =C5+7 -> 43487 | E5: =D5+7 -> 43494 | F5: 43508 | G5: =F5+7 -> 43515 | H5: =G5+7 -> 43522 | I5: =H5+7 -> 43529 | J5: =I5+7 -> 43536 | K5: =J5+7 -> 43543 | L5: =K5+7 -> 43550 | M5: =L5+7 -> 43557 | N5: =M5+7 -> 43564 | O5: =N5+7 -> 43571
A6: 1 | B6: ='ket qua hoc tap'!B7 -> Bùi Đình Như Quỳnh | P6: =IF(COUNTIF(C6:O6,"k")=0,"",COUNTIF(C6:O6,"k")&"k")
A7: 2 | B7: ='ket qua hoc tap'!B8 -> Võ Như Sơn | P7: =IF(COUNTIF(C7:O7,"k")=0,"",COUNTIF(C7:O7,"k")&"k")
A8: 3 | B8: ='ket qua hoc tap'!B9 -> Trần Nguyễn Nhật Tân | P8: =IF(COUNTIF(C8:O8,"k")=0,"",COUNTIF(C8:O8,"k")&"k")
A9: 4 | B9: ='ket qua hoc tap'!B10 -> Phạm Viết Thành | P9: =IF(COUNTIF(C9:O9,"k")=0,"",COUNTIF(C9:O9,"k")&"k")
A10: 5 | B10: ='ket qua hoc tap'!B11 -> Hà Quốc Tín | I10: k | P10: =IF(COUNTIF(C10:O10,"k")=0,"",COUNTIF(C10:O10,"k")&"k") -> 1k
A11: 6 | B11: ='ket qua hoc tap'!B12 -> Phan Thị Thùy Trang | P11: =IF(COUNTIF(C11:O11,"k")=0,"",COUNTIF(C11:O11,"k")&"k")
A12: 7 | B12: ='ket qua hoc tap'!B13 -> Trần Anh Tuấn | D12: k | P12: =IF(COUNTIF(C12:O12,"k")=0,"",COUNTIF(C12:O12,"k")&"k") -> 1k
A13: 8 | B13: ='ket qua hoc tap'!B14 -> Nguyễn Thanh Tùng | P13: =IF(COUNTIF(C13:O13,"k")=0,"",COUNTIF(C13:O13,"k")&"k")
A14: 9 | B14: ='ket qua hoc tap'!B15 -> Nguyễn Thị Tường Vi | P14: =IF(COUNTIF(C14:O14,"k")=0,"",COUNTIF(C14:O14,"k")&"k")
A15: 10 | B15: ='ket qua hoc tap'!B16 -> Trần Long Vũ | G15: k | P15: =IF(COUNTIF(C15:O15,"k")=0,"",COUNTIF(C15:O15,"k")&"k") -> 1k
A16: 11 | B16: ='ket qua hoc tap'!B17 -> Phạm Anh Vũ | P16: =IF(COUNTIF(C16:O16,"k")=0,"",COUNTIF(C16:O16,"k")&"k")
A17: 12 | B17: ='ket qua hoc tap'!B18 -> Nguyễn Ngọc Minh | P17: =IF(COUNTIF(C17:O17,"k")=0,"",COUNTIF(C17:O17,"k")&"k")
A18: 13 | B18: ='ket qua hoc tap'!B19 -> Nguyễn Phạm Hiền Thanh | L18: k | P18: =IF(COUNTIF(C18:O18,"k")=0,"",COUNTIF(C18:O18,"k")&"k") -> 1k
A19: 14 | B19: ='ket qua hoc tap'!B20 -> Nguyễn Tiến Thành | P19: =IF(COUNTIF(C19:O19,"k")=0,"",COUNTIF(C19:O19,"k")&"k")
A20: 15 | B20: ='ket qua hoc tap'!B21 -> Hồng Phúc Thông | P20: =IF(COUNTIF(C20:O20,"k")=0,"",COUNTIF(C20:O20,"k")&"k")
A21: 16 | B21: ='ket qua hoc tap'!B22 -> Nguyễn Thị Ngọc Tiên | J21: k | M21: k | P21: =IF(COUNTIF(C21:O21,"k")=0,"",COUNTIF(C21:O21,"k")&"k") -> 2k
A22: 17 | B22: ='ket qua hoc tap'!B23 -> Đặng Hoàng Triều | P22: =IF(COUNTIF(C22:O22,"k")=0,"",COUNTIF(C22:O22,"k")&"k")
A23: 18 | B23: ='ket qua hoc tap'!B24 -> Lê Văn Trọng | E23: k | P23: =IF(COUNTIF(C23:O23,"k")=0,"",COUNTIF(C23:O23,"k")&"k") -> 1k
A24: 19 | B24: ='ket qua hoc tap'!B25 -> Thạch Thị Thu Tuyết | P24: =IF(COUNTIF(C24:O24,"k")=0,"",COUNTIF(C24:O24,"k")&"k")
A25: 20 | B25: ='ket qua hoc tap'!B26 -> Phạm Quốc Việt | P25: =IF(COUNTIF(C25:O25,"k")=0,"",COUNTIF(C25:O25,"k")&"k")
A26: 21 | B26: ='ket qua hoc tap'!B27 -> Nguyễn Công Vũ | J26: k | M26: k | P26: =IF(COUNTIF(C26:O26,"k")=0,"",COUNTIF(C26:O26,"k")&"k") -> 2k
A27: 22 | B27: ='ket qua hoc tap'!B28 -> Huỳnh Thanh Vy | P27: =IF(COUNTIF(C27:O27,"k")=0,"",COUNTIF(C27:O27,"k")&"k")
A28: 23 | B28: ='ket qua hoc tap'!B29 -> Đào Đức Minh Khôi | P28: =IF(COUNTIF(C28:O28,"k")=0,"",COUNTIF(C28:O28,"k")&"k")
A29: 24 | B29: ='ket qua hoc tap'!B30 -> Hồ Vũ Nhân | P29: =IF(COUNTIF(C29:O29,"k")=0,"",COUNTIF(C29:O29,"k")&"k")

Sheet QLCaBiet
A1: QUẢN LÝ HỌC SINH CÁ BIỆT (Tên học sinh, đặc điểm, hình thức quản lý giáo dục, đánh giá phát triển)
C6: Lớp ngoan không có học sinh cá biệt

Sheet QuaTrinh
A1: ĐÁNH GIÁ QUÁ TRÌNH GIẢNG DẠY MÔN HỌC (đánh giá chung quá trình tổ chức đào tạo, quản lý lớp học và kết quả học tập của lớp học, kinh nghiệm giảng dạy môn học)
C9: Học sinh ngoan, đi học đầy đủ
